BEGIN:VCALENDAR
VERSION:2.0
PRODID:-//Library Market//iCal Export//EN
BEGIN:VEVENT
SUMMARY:Understanding Estate Planning
UID:33364
DTSTAMP:20260425T175300Z
DTSTART:20260603T140000Z
DTEND:20260603T170000Z
LOCATION:223 Douglas Ave., Dunedin, FL 34698, United States
ROOM: Meeting Room A
DESCRIPTION:Provide a complementary meeting to educate retirees or those p
 reparing to retire on estate planning.
URL:https://dunedin.librarycalendar.com/event/understanding-estate-plannin
 g-33364
END:VEVENT
END:VCALENDAR
