BEGIN:VCALENDAR
VERSION:2.0
PRODID:-//Library Market//iCal Export//EN
BEGIN:VEVENT
SUMMARY:Monday Showcase: Showtime for Kids
UID:30556
DTSTAMP:20260420T104000Z
DTSTART:20260629T180000Z
DTEND:20260629T200000Z
LOCATION:223 Douglas Ave, Dunedin, FL 34698, United States
ROOM: Community Meeting Room
DESCRIPTION:Magician Jim Chartier will have you rolling in the isles with 
 fast paced laugh-a-minute comedy &amp; magic. All shows are packed with h
 ilarious comedy, jaw dropping magic, awesome balloon sculpting, hysterica
 l audience participation, and uncontrollable laughter!Families welcome an
 d open to kids of all ages!
URL:https://dunedin.librarycalendar.com/event/monday-showcase-30556
END:VEVENT
END:VCALENDAR
