BEGIN:VCALENDAR
VERSION:2.0
PRODID:-//Library Market//iCal Export//EN
BEGIN:VEVENT
SUMMARY:Passport Application Appointment
UID:28899
DTSTAMP:20260426T041500Z
DTSTART:20260224T180000Z
DTEND:20260224T183000Z
LOCATION:Dunedin Public Library, 223 Douglas Ave., Dunedin, FL 34698, Unit
 ed States
ROOM: Passport Office
DESCRIPTION:The Dunedin Public Library is now a passport acceptance office
 . We can help you with your new passport needs, along with taking your pho
 to for the application. The Library can process up to two applications an
 d two photos in your 30-minute appointment. You are eligible to schedule 
 an appointment with us if at least one of the following conditions are t
 rue:You are applying for your first U.S. passport.You are under the age of
  16.Your previous U.S. passport:Was issued when you were under age 16.Was 
 issued more than 15 years ago.If none of the above statements apply, you 
 may be eligible to renew your passport online or by mail using Form DS-82
 .If one of the above conditions are true, please fill out the Form DS-11
  and continue to making an appointment.For the most up to date informatio
 n visit the Department of State website. Appointment RemindersPlease no
 te that you will be allotted the 30 minutes scheduled for your appointment
  to meet with an agent. If you do not have the correctly completed forms a
 nd other required documents with you at the beginning of your appointment,
  you will be asked to reschedule. Please arrive on time to your appointme
 nt. Appointments for one person will be canceled if not claimed with 15 m
 inutes of start time. Appointments for two people will be canceled if not
  claimed with 5 minutes of start time.The Library can process up to two ap
 plications and two photos in your 30 minute appointment. Please bring the
  following items to your appointment:1. Completed DS-11 Application for a 
 U.S. Passport: https://pptform.state.gov/. The library also provides blank
  forms that that you can complete prior to your scheduled appointment time
 . Do not sign the application until instructed to do so by the acceptanc
 e agent. 2. Proof of citizenship and photocopy (black and white photocopy
  only).3. Proof of identity and photocopy.4. Processing &amp; execution fe
 es. You will need two checks or money orders per application, one for the 
 U.S. Department of State processing fee and the second for the Dunedin Pub
 lic Library execution fee.Processing fees paid to the U.S. Department of S
 tate vary by applicant. Visit https://travel.state.gov/content/travel/en/p
 assports/how-apply/fees.html to calculate your fees.Each application requi
 res a $35 execution fee payable to the Dunedin Public Library. Photos are 
 an additional $15 per person. All children under age 16 must apply for a 
 passport in person with two parents or guardians using Form DS-11. If both
  parents/guardians cannot appear in person, additional documentation will 
 be required. Visit https://travel.state.gov/content/travel/en/passports/n
 eed-passport/under-16.html for forms and information.RenewalsIf you alread
 y have a passport, you may be eligible to renew by mail or online. Passpor
 ts issued within the last 15 years are generally eligible for renewal if s
 till in your possession. Visit https://travel.state.gov/content/travel/en/
 passports/have-passport/renew.html for more information.Questions?For more
  information about the passport application process, including acceptable 
 forms of proof of citizenship and identity, please visit https://travel.s
 tate.gov or call the National Passport Information Center at 1-877-487-27
 78.For information about our passport office, please call the Dunedin Publ
 ic Library Reference Desk at 727-298-3080 ext. 1707 or email library@duned
 in.gov. 
URL:https://dunedin.librarycalendar.com/event/passport-application-appoint
 ment-28899
END:VEVENT
END:VCALENDAR
