BEGIN:VCALENDAR
VERSION:2.0
PRODID:-//Library Market//iCal Export//EN
BEGIN:VEVENT
SUMMARY:Laughter Wellness
UID:25174
DTSTAMP:20260423T010800Z
DTSTART:20251016T180000Z
DTEND:20251016T190000Z
LOCATION:223 Douglas Ave., Dunedin, FL 34698, United States
ROOM: Meeting Room A
DESCRIPTION:Laughter wellness is an aerobic exercise that combines guided 
 deep breathing with laughter sounds. Created in 1995 by Dr. Madan Kataria,
  laughter yoga improves circulation, promotes digestion, reduces pain, pro
 motes emotional balance and more.
URL:https://dunedin.librarycalendar.com/event/laughter-wellness-25174
END:VEVENT
END:VCALENDAR
