BEGIN:VCALENDAR
VERSION:2.0
PRODID:-//Library Market//iCal Export//EN
BEGIN:VEVENT
SUMMARY:Interfaith Story Circle
UID:32383
DTSTAMP:20260424T231800Z
DTSTART:20260427T220000Z
DTEND:20260427T230000Z
LOCATION:223 Douglas Ave., Dunedin, FL 34698, United States
ROOM: Meeting Room A
DESCRIPTION:To Share Stories
URL:https://dunedin.librarycalendar.com/index.php/event/storytelling-32383
END:VEVENT
END:VCALENDAR
