BEGIN:VCALENDAR
VERSION:2.0
PRODID:-//Library Market//iCal Export//EN
BEGIN:VEVENT
SUMMARY:Summer Story Squad
UID:32125
DTSTAMP:20260425T132200Z
DTSTART:20260615T220000Z
DTEND:20260615T230000Z
LOCATION:Dunedin Public Library, 223 Douglas Ave., Dunedin, FL 34698, Unit
 ed States
ROOM: Story Time Room
DESCRIPTION:Join us for Summer Story Squad! In this series, children will 
 explore different genres of books and discover their favorite subject to r
 ead. This fun program will nurture and grow the love of reading.Please not
 e: by registering, you are committing to the full series.
URL:https://dunedin.librarycalendar.com/index.php/event/summer-story-squad
 -32125
END:VEVENT
END:VCALENDAR
