BEGIN:VCALENDAR
VERSION:2.0
PRODID:-//Library Market//iCal Export//EN
BEGIN:VEVENT
SUMMARY:Liz Glushko: Cello Unearthed
UID:30692
DTSTAMP:20260420T104000Z
DTSTART:20260729T223000Z
DTEND:20260729T233000Z
LOCATION:223 Douglas Ave, Dunedin, FL 34698, United States
ROOM: Community Meeting Room
DESCRIPTION:Join us for an evening of cello music. It will truly be a roar
 -chestral experience. With velociraptor-fast fingering and a bow arm that 
 never tires, cellist Liz Glushko will tackle complex passages with wase. N
 othing tricera-tops this performance!
URL:https://dunedin.librarycalendar.com/index.php/event/cello-unearthed
END:VEVENT
END:VCALENDAR
