BEGIN:VCALENDAR
VERSION:2.0
PRODID:-//Library Market//iCal Export//EN
BEGIN:VEVENT
SUMMARY:Monday Showcase: Out of my Hands Juggling &amp; Illusions
UID:30555
DTSTAMP:20260420T104000Z
DTSTART:20260622T180000Z
DTEND:20260622T200000Z
LOCATION:223 Douglas Ave, Dunedin, FL 34698, United States
ROOM: Community Meeting Room
DESCRIPTION:Join us for a high energy, interactive show with music, light,
  and lasers to dazzle audiences of all ages.Families welcome!
URL:https://dunedin.librarycalendar.com/index.php/event/monday-showcase-30
 555
END:VEVENT
END:VCALENDAR
