BEGIN:VCALENDAR
VERSION:2.0
PRODID:-//Library Market//iCal Export//EN
BEGIN:VEVENT
SUMMARY:Monday Showcase: Bits n Pieces Puppet Theatre
UID:30553
DTSTAMP:20260420T104000Z
DTSTART:20260608T180000Z
DTEND:20260608T200000Z
LOCATION:223 Douglas Ave, Dunedin, FL 34698, United States
ROOM: Community Meeting Room
DESCRIPTION:Promises, promises, promisesâ€¦ everyone makes them to get wha
 t they want. But what happens when the price of a promise is too high? In 
 this enchanting retelling of the classic fairy tale, Princess Daisy finds 
 the price is too much to pay. Can the Prince journey to the edge of the wo
 rld and return in time to save the day? And will Baby Sweet Pea remind usÂ
  that herosÂ in fairytlesÂ always end up living end Happily Ever After? Wi
 th laughter, magic, and toe-tapping music, Jerry Bickelâ€™s Merry Marionet
 tes bring â€śRumpelstiltskinâ€ť to life for modern audiences.Families welc
 ome and open to kids of all ages!
URL:https://dunedin.librarycalendar.com/index.php/event/monday-showcase-30
 553
END:VEVENT
END:VCALENDAR
